Workbook
Name COUNT: [1]Countries!$A$2:$A$227
Name SPECIESS: [1]Species!$B$2:$B$3422

Sheet GUIDE (READ ME)
C4: GUIDEDANCE - Read me before filling in this form
C6: To complete this form you must:
B8: 1) | C8: Fill in the 'Basic Information' tab. Please note that you should only fill in the light grey columns.
B10: 2) | C10: Fill in the 'Supply Chain Overview' tab. Please note that you should only fill in the light grey columns and the dark grey columns.
B12: 3) | C12: Fill in either the 'QS (Standard or High risk)' or 'QS (Low risk)' tab. DO NOT FILL IN BOTH!
C14: QS (Standard or High risk) tab should be filled in when:
C15: When the origin of the EUDR-relevant commodity is a high or standard risk country
C17: QS (Low risk) tab should be filled in when:
C18: When the origin of the EUDR-relevant commodity is a low risk country
C20: Link to country risk list: https://green-forum.ec.europa.eu/nature-and-biodiversity/deforestation-regulation-implementation/eudr-cooperation-and-partnerships/country-classification-list_en
B23: 4) | C23: Fill in the 'Vendor signature' tab. Please note that you should only fill in the light grey columns.
B25: 5) | C25: All relevant documentation required from the Supply Chain Overview and the QS(Standard or High risk) or QS(Low Risk) must be submitted together with this form. A form without required information will not be accepted for review
C27: For any questions please contact: Supplier for Netto Germany: CSR@netto.de Supplier for Netto Poland: esgsupport@netto.pl Supplier for Denmark (Netto, Føtex, Bilka, Salling, BR): EUDR@sallinggroup.com

Sheet Basic information
D2: Insert product image here:
B3: Basic product information
B4: Salling Group order number
B5: Salling Group article number
B6: Article Description
B7: Quantity of the article (EA) on this order
B8: Netto weight of one article (kg)
B9: Certified product (Please indicate if the product is certified with either FSC or PEFC and carries the trademark)
B11: Commodity (Wood) | Additional details
B12: Product components of wood/paper | C12: Species of the timber (Scientific name) | D12: Species of timber (Commen name) | E12: Volumen (CBM) | F12: Weight (Kg) | G12: Certification
B13: Please describe the part/parts of the product that is made of wood/paper (e.g. 'The countertop of the table', 'The frame of the bed',or 'The pages in the notebook'. | C13: Please write the scientific name of the timber | D13: Please write the trade name/common name of the timber. | E13: Please enter the volume of this wood/paper part used pr. article (CBM) | F13: Please enter the volume of this wood/paper part used pr. article (Kg) | G13: Please indicate if the wood/paper component is certified
B17: Please add more lines if needed.
C19: Volumen (CBM) | D19: Weight (Kg)
B20: Total volume of wood/paper components pr. article | C20: =SUM(E14:E16) -> 0 | D20: =SUM(F14:F16) -> 0

Sheet Supply Chain Overview
B2: EUDR Supply Chain Overview
B3: For each wood component listed in the sheet 'Basic information' in columns A13 to A18, you must complete the form below. Please only fill in the light and dark grey cells. Light blue and dark blue cells will be filled in by Salling Group. For more guidance For more guidance on how to complete the section below, please refer to the last tab '(Example) Supply Chain Overview' If the product consists of more than one wood component, you must copy the sheet 'Supply Chain Overview' and complete it for the additional wood components. Please rename the other sheet(s) 'Supply Chain Overview 2', 'Supply Chain Overview 3' and so on. To Copy the whole sheet, Right-click the worksheet tab and select Move or Copy. 'Create a copy' checkbox must be checked and then select where you want to place the copy and click 'ok'.
B6: Product components of timber
B7: Scientific name of timber
B8: Trade name of timber
B10: EUTR SUPPLY CHAIN
B11: Company name | C11: Tier description | D11: Company name | E11: Country | F11: Address | G11: Product form | H11: Examples of documents needed | I11: Document number | J11: Document description Please provide a description of the document. For example, "Harvest license" or "Invoice between XX and XX." | K11: Document date (DD-MM-YYYY) | L11: Effective date/first issue date (DD-MM-YYYY) | M11: Expiration date (DD-MM-YYYY) | N11: PCS | O11: CBM | P11: KG | Q11: Checked by RS -team | R11: Comments
B12: Tier 1 | C12: Forest | H12: Harvesting license Forest tenure certificate Forest management plan Forest harvest permit Sustainable forest management permit Business license FSC certificate PEFC certificate
B18: Link | C18: Link | D18: Documentation for trade between tier 1 and tier 2 | H18: Invoice Bill of lading Air waybill/Road Consignment Note Packing list Customs Declaration
B21: Tier 2 | H21: Business license FSC certificate PEFC certificate
B24: Link | C24: Link | D24: Documentation for trade between tier 2 and tier 3 | H24: Invoice Bill of lading Air waybill/Road Consignment Note Packing list Customs Declaration
B27: Tier 3 | H27: Business license FSC certificate PEFC certificate
B30: Link | C30: Link | D30: Documentation for trade between tier 3 and tier 4 | H30: Invoice Bill of lading Air waybill/Road Consignment Note Packing list Customs Declaration
B33: Tier 4 | H33: Business license FSC certificate PEFC certificate
B36: Link | C36: Link | D36: Documentation for trade between tier 4 and tier 5 | H36: Invoice Bill of lading Air waybill/Road Consignment Note Packing list Customs Declaration
B39: Tier 5 | H39: Business license FSC certificate PEFC certificate
B42: Link | C42: Link | D42: Documentation for trade between tier 5 and Salling Group | H42: Invoice Bill of lading Air waybill/Road Consignment Note Packing list Customs Declaration
B45: Tier 5 | C45: Retailer | D45: Salling Group A/S | E45: Denmark | F45: Rosbjergvej 33, 8220 Brabrand | G45: Final product | I45: N/A | J45: N/A | K45: N/A | N45: N/A | P45: N/A | Q45: N/A | R45: N/A
B46: If additional tiers are needed to specify the entire supply chain, simply add them by copying row 36 to row 41 and inserting them between row 41 and row 42.
B47: If there are too many tiers for the specific supply chain, simply delete the unnecessary rows

Sheet QS (Standard or High risk)
B2: Questionnaire (Standard or high risk origin)
B3: Should only be filled in when the origin of the EUDR-relevant commodity is a high or standard risk country Link to EUDR country risk benchmark: https://green-forum.ec.europa.eu/nature-and-biodiversity/deforestation-regulation-implementation/eudr-cooperation-and-partnerships/country-classification-list_en Since the EUDR-relevant raw materials in your EUDR-relevant product originate from countries categorized as either standard or high-risk, we kindly ask you to complete the questionnaire below. The questions must be answered for the first tier of the supply chain (i.e., the forest/plantation). Please provide your answers by selecting the appropriate option from the dropdown menu in column C. All questions must be answered! In column D, it will be indicated if supporting documentation is required. If documentation is requested, please submit it together with this template to Salling Group. The files must be named according to the corresponding question number. For example, if you are asked to provide documentation for question 1.2, the file should be named “1.2 court proceedings”
B4: 1. Land use rights | E4: Required documentation that needs to be submittet together with the template (Please name the document according to the corresponding question number) | F4: Score (must be hidden)
B5: 1.1 | C5: ='Data (HS)'!B2 -> Can you provide documentation that the implicated supplier owns the land or has the right to use it for farming or production | E5: =IF(D5='Data (HS)'!C3,'Data (HS)'!D3," ") | F5: {=_xlfn.IFS(D5='Data (HS)'!C3,'Data (HS)'!E3,'QS (Standard or High risk)'!D5='Data (HS)'!C4,'Data (HS)'!E4)} -> #N/A
B6: 1.2 | C6: ='Data (HS)'!B5 -> Are there any official competing claims or disputes over ownership or use of the relevant plot(s) of land? | E6: =IF('QS (Standard or High risk)'!D6='Data (HS)'!C8,'Data (HS)'!D8," ") | F6: {=_xlfn.IFS(D6='Data (HS)'!C6,'Data (HS)'!E6,D6='Data (HS)'!C7,'Data (HS)'!E7,D6='Data (HS)'!C8,'Data (HS)'!E8,D6='Data (HS)'!C9,'Data (HS)'!E9)} -> #N/A
B7: 1.3 | C7: ='Data (HS)'!B10 -> Is the relevant plot(s) of land certified according to any of the following EUDR relevant third-party standards or certification schemes (RSPO, FSC, PEFC, Rainforest Alliance, Fairtrade etc.)? | E7: =IF(D7='Data (HS)'!C11,'Data (HS)'!D11," ") | F7: {=_xlfn.IFS(D7='Data (HS)'!C11,'Data (HS)'!E11,D7='Data (HS)'!C12,'Data (HS)'!E12)} -> #N/A
B8: 2. Deforestation & Forest degradation | E8: Required documentation that needs to be submittet together with the template (Please name the document according to the corresponding question number) | F8: Score (must be hidden)
B9: 2.1 | C9: ='Data (HS)'!B13 -> Can you confirm that forest (land spanning more than 0,5 hectares with trees higher than 5 metres and a canopy cover of more than 10%, or trees able to hold those tresholds in situ) land has not been converted to agriculture use for this production after the EUDR cut-off date 31st December 2020? | E9: =IF(D9='Data (HS)'!C3,'Data (HS)'!D14," ") | F9: {=_xlfn.IFS(D9='Data (HS)'!C14,'Data (HS)'!E14,D9='Data (HS)'!C15,'Data (HS)'!E15)} -> #N/A
B10: 2.2 | C10: ='Data (HS)'!B16 -> Can you confirm that primary forest (naturally generated forst of native tree species, where there are no clearly visible indications of human activities and the ecological processes are not significantly disturbed) has not been degraded (structural changes to forest cover) or converted to plantation forest, other planted forests or other wooded land for this production after the EUDR cutt-off date 31st December 2020? | E10: =IF(D10='Data (HS)'!C17,'Data (HS)'!D17," ") | F10: {=_xlfn.IFS(D10='Data (HS)'!C17,'Data (HS)'!E17,D10='Data (HS)'!C18,'Data (HS)'!E18)} -> #N/A
B11: 2.3 | C11: ='Data (HS)'!B19 -> Can you confirm that naturally regenerating forest (a forest that is regrowing after a disturbance (like agriculture, logging, or fire) without human replanting) has not been degraded or converted to plantation forest or other wooded land for this production after the EUDR cutt-off date 31st December 2020? | E11: =IF(D11='Data (HS)'!C20,'Data (HS)'!D20," ") | F11: {=_xlfn.IFS(D11='Data (HS)'!C20,'Data (HS)'!E20,D11='Data (HS)'!C21,'Data (HS)'!E21)} -> #N/A
B12: 3. Environmental protection | E12: Required documentation that needs to be submittet together with the template (Please name the document according to the corresponding question number) | F12: Score (must be hidden)
B13: 3.1 | C13: ='Data (HS)'!B22 -> Are any specific conservation or restoration targets for this specific plot(s) of land? | E13: =IF(D13='Data (HS)'!C24,'Data (HS)'!D24," ") | F13: {=_xlfn.IFS(D13='Data (HS)'!C23,'Data (HS)'!E23,D13='Data (HS)'!C24,'Data (HS)'!E24,D13='Data (HS)'!C25,'Data (HS)'!E25,D13='Data (HS)'!C26,'Data (HS)'!E26)} -> #N/A
B14: 3.2 | C14: ='Data (HS)'!B27 -> Are there protected or endangered plant and/or animal species living in or near the relevant plot(s) of land? (e.g., CITES – insert link - species listed in appendix I and II, Endagered Species Act) | E14: =IF(D14='Data (HS)'!C28,'Data (HS)'!D28," ") | F14: {=_xlfn.IFS(D14='Data (HS)'!C28,'Data (HS)'!E28,D14='Data (HS)'!C29,'Data (HS)'!E29,D14='Data (HS)'!C30,'Data (HS)'!E30,D14='Data (HS)'!C31,'Data (HS)'!E31)} -> #N/A
B15: 3.3 | C15: ='Data (HS)'!B32 -> Are chemicals used and stored in a way that complies with legal requirements and minimises harm to human health and the environment for this relevant plot(s) of land? | E15: =IF(D15='Data (HS)'!C33,'Data (HS)'!D33," ") | F15: {=_xlfn.IFS(D15='Data (HS)'!C33,'Data (HS)'!E33,D15='Data (HS)'!C34,'Data (HS)'!E34,D15='Data (HS)'!C35,'Data (HS)'!E35,D15='Data (HS)'!C36,'Data (HS)'!E36)} -> #N/A
B16: 3.4 | C16: ='Data (HS)'!B37 -> Is all waste, including hazardous waste, managed and disposed of in compliance with legal requirements and with minimal environmental impact for this relevant plot(s) of land? | E16: =IF(D16='Data (HS)'!C38,'Data (HS)'!D38," ") | F16: {=_xlfn.IFS(D16='Data (HS)'!C38,'Data (HS)'!E38,D16='Data (HS)'!C39,'Data (HS)'!E39,D15='Data (HS)'!C40,'Data (HS)'!E40)} -> #N/A
B17: 3.5 | C17: ='Data (HS)'!B41 -> Is water use and protection of surface and groundwater managed efficiently and in accordance with legal requirements for this relevant plot(s) of land? | E17: =IF(D17='Data (HS)'!C42,'Data (HS)'!D42," ") | F17: {=_xlfn.IFS(D17='Data (HS)'!C42,'Data (HS)'!E42,D17='Data (HS)'!C43,'Data (HS)'!E43,D17='Data (HS)'!C44,'Data (HS)'!E44)} -> #N/A
B18: 3.6 | C18: ='Data (HS)'!B45 -> Are practices in place to conserve and improve soil health while meeting all legal requirements for this relevant plot(s) of land? | E18: =IF(D18='Data (HS)'!C46,'Data (HS)'!D46," ") | F18: {=_xlfn.IFS(D18='Data (HS)'!C46,'Data (HS)'!E46,D18='Data (HS)'!C47,'Data (HS)'!E47,D18='Data (HS)'!C48,'Data (HS)'!E48)} -> #N/A
B19: 4. Labour rights and international human rights | E19: Required documentation that needs to be submittet together with the template (Please name the document according to the corresponding question number) | F19: Score (must be hidden)
B20: 4.1 | C20: ='Data (HS)'!B49 -> Are legal minimum age requirements respected, and is the work of young workers (if any) compliant with national labour laws and protections at the relevant plot(s) of land? | E20: =IF(D20='Data (HS)'!C50,'Data (HS)'!D50," ") | F20: {=_xlfn.IFS(D20='Data (HS)'!C50,'Data (HS)'!E50,D20='Data (HS)'!C51,'Data (HS)'!E51,D20='Data (HS)'!C52,'Data (HS)'!E52)} -> #N/A
B21: 4.2 | C21: ='Data (HS)'!B53 -> Is it ensured that no workers are subject to forced labour, bonded labour, or restrictions on freedom to leave or change employment at the relevant plot(s) of land? | E21: =IF(D21='Data (HS)'!C54,'Data (HS)'!D54," ") | F21: {=_xlfn.IFS(D21='Data (HS)'!C54,'Data (HS)'!E54,D21='Data (HS)'!C55,'Data (HS)'!E55,D21='Data (HS)'!C56,'Data (HS)'!E56)} -> #N/A
B22: 4.3 | C22: ='Data (HS)'!B57 -> Are workers free to form or join trade unions and engage in collective bargaining in accordance with national law at the relevant plot(s) of land? | E22: =IF(D22='Data (HS)'!C58,'Data (HS)'!D58," ") | F22: {=_xlfn.IFS(D22='Data (HS)'!C58,'Data (HS)'!E58,D22='Data (HS)'!C59,'Data (HS)'!E59,D22='Data (HS)'!C60,'Data (HS)'!E60)} -> #N/A
B23: 4.4 | C23: ='Data (HS)'!B61 -> Are legal limits on working hours, rest periods, and overtime fully respected at the relevant plot(s) of land? | E23: =IF(D23='Data (HS)'!C62,'Data (HS)'!D62," ") | F23: {=_xlfn.IFS(D23='Data (HS)'!C62,'Data (HS)'!E62,D23='Data (HS)'!C63,'Data (HS)'!E63,D23='Data (HS)'!C64,'Data (HS)'!E64)} -> #N/A
B24: 4.5 | C24: ='Data (HS)'!B65 -> Are workers recruited and employed in compliance with legal requirements at the relevant plot(s) of land (e.g. contracts, minimum age, identity checks)? | E24: =IF(D24='Data (HS)'!C66,'Data (HS)'!D66," ") | F24: {=_xlfn.IFS(D24='Data (HS)'!C66,'Data (HS)'!E66,D24='Data (HS)'!C67,'Data (HS)'!E67,D24='Data (HS)'!C68,'Data (HS)'!E68)} -> #N/A
B25: 4.6 | C25: ='Data (HS)'!B69 -> Are hiring, pay, promotion, and work conditions free from discrimination based on gender, ethnicity, religion, or other status at the relevant plot(s) of land? | E25: =IF(D25='Data (HS)'!C70,'Data (HS)'!D70," ") | F25: {=_xlfn.IFS(D25='Data (HS)'!C70,'Data (HS)'!E70,D25='Data (HS)'!C71,'Data (HS)'!E71,D25='Data (HS)'!C72,'Data (HS)'!E72)} -> #N/A
B26: 4.7 | C26: ='Data (HS)'!B73 -> Are all workers paid at least the legal minimum wage and entitled benefits (e.g. social insurance, paid leave) at the relevant plot(s) of land? | E26: =IF(D26='Data (HS)'!C74,'Data (HS)'!D74," ") | F26: {=_xlfn.IFS(D26='Data (HS)'!C74,'Data (HS)'!E74,D26='Data (HS)'!C75,'Data (HS)'!E75,D26='Data (HS)'!C76,'Data (HS)'!E76)} -> #N/A
B27: 4.8 | C27: ='Data (HS)'!B77 -> Are safe working conditions provided and required protective equipment used by workers at the relevant plot(s) of land? | E27: =IF(D27='Data (HS)'!C78,'Data (HS)'!D78," ") | F27: {=_xlfn.IFS(D27='Data (HS)'!C78,'Data (HS)'!E78,D27='Data (HS)'!C79,'Data (HS)'!E79,D27='Data (HS)'!C80,'Data (HS)'!E80)} -> #N/A
B28: 4.9 | C28: ='Data (HS)'!B81 -> If accommodation is provided at the relevant plot(s) of land, is it safe, hygienic, and compliant with local legal standards? | E28: =IF(D28='Data (HS)'!C82,'Data (HS)'!D82," ") | F28: {=_xlfn.IFS(D28='Data (HS)'!C82,'Data (HS)'!E82,D28='Data (HS)'!C83,'Data (HS)'!E83,D28='Data (HS)'!C84,'Data (HS)'!E84)} -> #N/A
B29: 4.10 | C29: ='Data (HS)'!B85 -> Is equal pay for equal work ensured and legally required maternity and paternity leave provided at the relevant plot(s) of land? | E29: =IF(D29='Data (HS)'!C86,'Data (HS)'!D86," ") | F29: {=_xlfn.IFS(D29='Data (HS)'!C86,'Data (HS)'!E86,D29='Data (HS)'!C87,'Data (HS)'!E87,D29='Data (HS)'!C88,'Data (HS)'!E88)} -> #N/A
B30: 4.11 | C30: ='Data (HS)'!B89 -> Are internationally recognized human rights (e.g. rights to non-discrimination, fair treatment, safety, privacy, and freedom of movement) fully respected at the relevant plot(s) of land? | E30: =IF(D30='Data (HS)'!C90,'Data (HS)'!D90," ") | F30: {=_xlfn.IFS(D30='Data (HS)'!C90,'Data (HS)'!E90,D30='Data (HS)'!C91,'Data (HS)'!E91,D30='Data (HS)'!C92,'Data (HS)'!E92)} -> #N/A
B31: 5. Rights of third parties and indigenous people | E31: Required documentation that needs to be submittet together with the template (Please name the document according to the corresponding question number) | F31: Score (must be hidden)
B32: 5.1 | C32: ='Data (HS)'!B93 -> Is the relevant plot(s) of land (related to the raw material or commodity) located within or adjacent to land traditionally used or occupied by Indigenous Peoples or local communities? | E32: =IF(D32='Data (HS)'!C94,'Data (HS)'!D94," ") | F32: {=_xlfn.IFS(D32='Data (HS)'!C94,'Data (HS)'!E94,D32='Data (HS)'!C95,'Data (HS)'!E95,D32='Data (HS)'!C96,'Data (HS)'!E96)} -> #N/A
B33: 5.2 | C33: ='Data (HS)'!B97 -> Has the production activity had — or is it likely to have — an impact on the land, natural resources, access, or livelihoods of Indigenous Peoples or local communities? | E33: =IF(D33='Data (HS)'!C99,'Data (HS)'!D99," ") | F33: {=_xlfn.IFS(D33='Data (HS)'!C98,'Data (HS)'!E98,D33='Data (HS)'!C99,'Data (HS)'!E99,D33='Data (HS)'!C100,'Data (HS)'!E100,D33='Data (HS)'!C101,'Data (HS)'!E101)} -> #N/A
B34: 5.3 | C34: ='Data (HS)'!B102 -> Does applicable national legislation — or international obligations incorporated into national law — require Free, Prior and Informed Consent (FPIC) or formal consultation with Indigenous Peoples or local communities before production activities begin? | E34: =IF(D34='Data (HS)'!C103,'Data (HS)'!D103," ") | F34: {=_xlfn.IFS(D34='Data (HS)'!C103,'Data (HS)'!E103,D34='Data (HS)'!C104,'Data (HS)'!E104,D34='Data (HS)'!C105,'Data (HS)'!E105,D34='Data (HS)'!C106,'Data (HS)'!E106)} -> #N/A
B35: 6. Tax and anti-corruption | E35: Required documentation that needs to be submittet together with the template (Please name the document according to the corresponding question number) | F35: Score (must be hidden)
B36: 6.1 | C36: ='Data (HS)'!B107 -> Does the relevant plot(s) of land have controls in place to prevent and comply with laws regarding corruption, bribery, fraud, and conflicts of interest? | E36: =IF(D36='Data (HS)'!C108,'Data (HS)'!D108," ") | F36: {=_xlfn.IFS(D36='Data (HS)'!C108,'Data (HS)'!E108,D36='Data (HS)'!C109,'Data (HS)'!E109,D36='Data (HS)'!C110,'Data (HS)'!E110)} -> #N/A
B37: 6.2 | C37: ='Data (HS)'!B111 -> Have any of the relevant business partners involved in this product’s supply chain ever been subject to formal investigation, sanctions, or allegations related to bribery, fraud or misuse of permits (in the last five years)? | E37: =IF(D37='Data (HS)'!C112,'Data (HS)'!D112," ") | F37: {=_xlfn.IFS(D37='Data (HS)'!C112,'Data (HS)'!E112,D37='Data (HS)'!C113,'Data (HS)'!E113,D37='Data (HS)'!C114,'Data (HS)'!E114)} -> #N/A
B38: 6.3 | C38: ='Data (HS)'!B115 -> Is there a secure mechanism in place within your company and/or at your upstream supply chain partners for reporting corruption or unethical behavior? | E38: =IF(D38='Data (HS)'!C116,'Data (HS)'!D116," ") | F38: {=_xlfn.IFS(D38='Data (HS)'!C116,'Data (HS)'!E116,D38='Data (HS)'!C117,'Data (HS)'!E117,D38='Data (HS)'!C118,'Data (HS)'!E118)} -> #N/A
B39: 6.4 | C39: ='Data (HS)'!B119 -> Have any grievances been received/reported related to the supply chain of this product in the past five years? | E39: =IF(D39='Data (HS)'!C120,'Data (HS)'!D120," ") | F39: {=_xlfn.IFS(D39='Data (HS)'!C120,'Data (HS)'!E120,D39='Data (HS)'!C121,'Data (HS)'!E121,D39='Data (HS)'!C122,'Data (HS)'!E122)} -> #N/A
B41: Total questionnaire risk score | F41: =AVERAGE(F36:F39,F32:F34,F20:F30,F13:F18,F5:F7) -> #N/A

Sheet QS (Low risk)
B2: Questionnaire (Low risk)
B3: Should only be filled in when the origin of the EUDR-relevant commodity is a low risk country Link to EUDR country risk benchmark: https://green-forum.ec.europa.eu/nature-and-biodiversity/deforestation-regulation-implementation/eudr-cooperation-and-partnerships/country-classification-list_en Since the EUDR-relevant raw materials in your EUDR-relevant product originate from countries categorized as low risk, we kindly ask you to complete the questionnaire below. Please provide your answers by selecting the appropriate option from the dropdown menu in column C. All questions must be answered.
B4: 1. Risk of Circumvention | E4: Required documentation that needs to be submittet together with the template or comments (Please name the document according to the corresponding question number) | F4: Score (must be hidden)
B5: 1.1 | C5: ='Data (L)'!B2 -> Can you confirm that none of the EUDR relevant commodity (-ies) used for the relevant EUDR derived product(s) have been sourced from or passed through high or standard-risk countries or regions? | E5: =IF(D5='Data (L)'!C4,'Data (L)'!D4," ") | F5: {=_xlfn.IFS(D5='Data (L)'!C3,'Data (L)'!E3,D5='Data (L)'!C4,'Data (L)'!E4)} -> #N/A
B6: 1.2 | C6: ='Data (L)'!B5 -> Do you subcontract any part of the sourcing or production process to third parties? | E6: =IF(D6='Data (L)'!C6,'Data (L)'!D6," ") | F6: {=_xlfn.IFS(D6='Data (L)'!C6,'Data (L)'!E6,D6='Data (L)'!C7,'Data (L)'!E7)} -> #N/A
B7: 1.3 | C7: ='Data (L)'!B8 -> What checks do you perform to ensure that the origin information provided by your sub-suppliers is accurate and not manipulated? | F7: {=_xlfn.IFS(D7='Data (L)'!C9,'Data (L)'!E9,D7='Data (L)'!C10,'Data (L)'!E10,D7='Data (L)'!C11,'Data (L)'!E11)} -> #N/A
B8: 2. Risk of Mixing with Unknown or Non-Compliant commodities | F8: Score (must be hidden)
B9: 2.1 | C9: ='Data (L)'!B12 -> Do you or your sub-suppliers process or handle similar commodities from low-risk origins in the same facility as those from standard- or high-risk origins, potentially allowing for co-mingling? | F9: {=_xlfn.IFS(D9='Data (L)'!C13,'Data (L)'!E13,D9='Data (L)'!C14,'Data (L)'!E14,D9='Data (L)'!C15,'Data (L)'!E15)} -> #N/A
B10: 2.2 | C10: ='Data (L)'!B16 -> What measures do you or your sub-suppliers implement to ensure that final products are derived exclusively from low-risk origin commodities? | F10: {=_xlfn.IFS(D10='Data (L)'!C17,'Data (L)'!E17,D10='Data (L)'!C18,'Data (L)'!E18,D10='Data (L)'!C19,'Data (L)'!E19)} -> #N/A
B11: 2.3 | C11: ='Data (L)'!B20 -> What systems are in place to segregate low-risk (compliant) and high-risk (non-compliant) materials during processing and storage? | F11: {=_xlfn.IFS(D11='Data (L)'!C21,'Data (L)'!E21,D11='Data (L)'!C22,'Data (L)'!E22,D11='Data (L)'!C23,'Data (L)'!E23,D11='Data (L)'!C24,'Data (L)'!E24)} -> #N/A
B12: 2.4 | C12: ='Data (L)'!B25 -> Are records or evidence available to support the claims made above (e.g., facility audits, supply chain traceability reports, third-party certifications)? | F12: {=_xlfn.IFS(D12='Data (L)'!C26,'Data (L)'!E26,D12='Data (L)'!C27,'Data (L)'!E27,D12='Data (L)'!C28,'Data (L)'!E28)} -> #N/A
B14: Total questionnaire risk score | F14: =AVERAGE(F9:F12,F5:F7) -> #N/A

Sheet Data (HS)
A1: Number | B1: Question | C1: Reply | D1: Comment | E1: Score
A2: 1.1 | B2: Can you provide documentation that the implicated supplier owns the land or has the right to use it for farming or production
C3: Yes | D3: Please make sure that the documentation is uploaded in the 'Supply Chain Overview' for the first tier (Forest). If no evidence is available, you must select 'No' | E3: 0
C4: No | E4: 5
A5: 1.2 | B5: Are there any official competing claims or disputes over ownership or use of the relevant plot(s) of land?
C6: No | E6: 0
C7: Yes - but we have no documentation that this dispute is being handled | E7: 4
C8: Yes - and we have documentation that this dispute is being handled | D8: Please forward evidence for these claims or disptes and documentation for what steps have been taken to resolve the dispute (e.g., mediation, court proceedings, community dialogue). | E8: 0
C9: Unknown/Not assessed | E9: 2
A10: 3.7 | B10: Is the relevant plot(s) of land certified according to any of the following EUDR relevant third-party standards or certification schemes (RSPO, FSC, PEFC, Rainforest Alliance, Fairtrade etc.)?
C11: Yes | D11: Please forward the third-party standards or certification schemes. If no certificate/documentation is available, then you must select 'No'. | E11: 0
C12: No | E12: 2
A13: 2.1 | B13: Can you confirm that forest (land spanning more than 0,5 hectares with trees higher than 5 metres and a canopy cover of more than 10%, or trees able to hold those tresholds in situ) land has not been converted to agriculture use for this production after the EUDR cut-off date 31st December 2020?
C14: Yes | E14: 0
C15: No | E15: 5
A16: 2.2 | B16: Can you confirm that primary forest (naturally generated forst of native tree species, where there are no clearly visible indications of human activities and the ecological processes are not significantly disturbed) has not been degraded (structural changes to forest cover) or converted to plantation forest, other planted forests or other wooded land for this production after the EUDR cutt-off date 31st December 2020?
C17: Yes | E17: 0
C18: No | E18: 5
A19: 2.3 | B19: Can you confirm that naturally regenerating forest (a forest that is regrowing after a disturbance (like agriculture, logging, or fire) without human replanting) has not been degraded or converted to plantation forest or other wooded land for this production after the EUDR cutt-off date 31st December 2020?
C20: Yes | E20: 0
C21: No | E21: 5
A22: 3.1 | B22: Are any specific conservation or restoration targets for this specific plot(s) of land?
C23: No | E23: 0
C24: Yes - and we have documentation that these targets are complied with | D24: Please provide official documents proving your alignment with these specific conservation or restoration targets such as environmental management plans, nature restoration plans, contracts or records of partnership with NGOs or conservation groups | E24: 0
C25: Yes - but we have no documentation that these targets are complied with | E25: 4
C26: Unknown/Not assessed | E26: 3
A27: 3.2 | B27: Are there protected or endangered plant and/or animal species living in or near the relevant plot(s) of land? (e.g., CITES – insert link - species listed in appendix I and II, Endagered Species Act)
C28: Yes - and documentation for compliance with local law is available | D28: Please provide evidence proving that you actively manage and live up to habitat protection requirements or local conservation laws. | E28: 0
C29: Yes - but documentation for compliance with local law is unavailable | E29: 4
C30: No | E30: 0
C31: Unknown/Not assessed | E31: 3
A32: 3.3 | B32: Are chemicals used and stored in a way that complies with legal requirements and minimises harm to human health and the environment for this relevant plot(s) of land?
C33: Yes | D33: Please provide supporting documentation (e.g., chemical inventory and safety data sheets, chemical use records). If no documentation is available, then you must select a different answer for this question | E33: 0
C34: No - not in place | E34: 2
C35: Unknown/Not assessed | E35: 2
C36: No chemicals are used for this/these plots | E36: 0
A37: 3.4 | B37: Is all waste, including hazardous waste, managed and disposed of in compliance with legal requirements and with minimal environmental impact for this relevant plot(s) of land?
C38: Yes | D38: Please provide evidence (e.g. waste management plan, Hazardous waste handling documentation, contracts with licensed waste handlers). If no evidence is available, then you must select a different answer for this question. | E38: 0
C39: No - not in place | E39: 2
C40: Unknown/Not assessed | E40: 2
...

Sheet Data (L)
A1: Number | B1: Question | C1: Reply | D1: Comment | E1: Score
A2: 1.1 | B2: Can you confirm that none of the EUDR relevant commodity (-ies) used for the relevant EUDR derived product(s) have been sourced from or passed through high or standard-risk countries or regions?
C3: Yes | E3: 0
C4: No | D4: You must fill in the 'Questionnaire (High & Standard risk)" instead | E4: 5
A5: 1.2 | B5: Do you subcontract any part of the sourcing or production process to third parties?
C6: Yes | D6: Please provide a list of all subcontractors. The list must include the company name and the country in which each subcontractor operates." | E6: 5
C7: No | E7: 0
A8: 1.3 | B8: What checks do you perform to ensure that the origin information provided by your sub-suppliers is accurate and not manipulated?
C9: Robust traceability systems, including periodic audits, satellite or geolocation vertification, and/or third-party certification to confirm the origin | E9: 0
C10: Basic verification is performed, such as reviewing documentation (e.g. invoices, transport records), but no independent audits or traceability systems are in place | E10: 1
C11: No formal checks are conducted. We rely on the information provided by sub-suppliers without verification | E11: 4
A12: 2.1 | B12: Do you or your sub-suppliers process or handle similar commodities from low-risk origins in the same facility as those from standard- or high-risk origins, potentially allowing for co-mingling?
C13: Yes | E13: 4
C14: No | E14: 0
C15: Unknown/Not assessed | E15: 4
A16: 2.2 | B16: What measures do you or your sub-suppliers implement to ensure that final products are derived exclusively from low-risk origin commodities?
C17: Only inputs from verified low-risk sources are used, supported by full traceability and regular risk assessments and/or third party verification | E17: 0
C18: Final product inputs are selected from known sources and reviewed against risk criteria. Some documentation is collected. | E18: 3
C19: No formal assurance. Final product sourcing is based on supplier declarations without documentation | E19: 4
A20: 2.3 | B20: What systems are in place to segregate low-risk (compliant) and high-risk (non-compliant) materials during processing and storage?
C21: Comprehensive segregation system with physical separation, batch-level coding, digital traceability, and integration with ERP or quality systems | E21: 0
C22: Basic segregation using batch labelling or internal documentation; separation relies partially on manual controls | E22: 2
C23: No formal segregation system; materials may be mixed without clear traceability or control measures. | E23: 5
C24: Not applicable – only commodities from low-risk origins are handled at the facility. | E24: 0
A25: 2.4 | B25: Are records or evidence available to support the claims made above (e.g., facility audits, supply chain traceability reports, third-party certifications)?
C26: Yes – documentation available for review | E26: 0
C27: Partially – some records exist but are incomplete | E27: 2
C28: No – records not available | E28: 5

Sheet Vendor signature
B2: Vendors signature
B3: The undersigned vendor to Salling Group guarantees that the information given in the Salling Group EUDR legality template is correct. Salling Group reserves the right to use the information in this template as a basis for documentation towards the authorities. The undersigned vendor to Salling Group accepts this.
B4: Company name:
B5: Salling Group vendor number:
B6: Name and surname:
B7: Email:
B8: Date:

Sheet (Example) Supply Chain Overview
B2: EUDR Supply Chain Overview
B3: For each wood component listed in the sheet 'Basic information' in columns A13 to A18, you must complete the form below. Please only fill in the light and dark grey cells. Light blue and dark blue cells will be filled in by Salling Group. For more guidance For more guidance on how to complete the section below, please refer to the last tab '(Example) Supply Chain Overview' If the product consists of more than one wood component, you must copy the sheet 'Supply Chain Overview' and complete it for the additional wood components. Please rename the other sheet(s) 'Supply Chain Overview 2', 'Supply Chain Overview 3' and so on. To Copy the whole sheet, Right-click the worksheet tab and select Move or Copy. 'Create a copy' checkbox must be checked and then select where you want to place the copy and click 'ok'.
B5: Product components of timber | E5: Table legs
B6: Scientific name of timber | E6: Pinus taeda
B7: Trade name of timber | E7: Loblolly Pine
B9: EUTR SUPPLY CHAIN
B10: Company name | C10: Tier description | D10: Company name | E10: Country | F10: Address | G10: Product form | H10: Examples of documents needed | I10: Document number | J10: Document description Please provide a description of the document. For example, "Harvest license" or "Invoice between XX and XX." | K10: Document date (DD-MM-YYYY) | L10: Effective date/first issue date (DD-MM-YYYY) | M10: Expiration date (DD-MM-YYYY) | N10: PCS | O10: CBM (m³) | P10: KG | Q10: Checked by RS -team | R10: Comments
B11: Tier 1 | C11: Forest | D11: Jade Whisper Grove | E11: China | F11: 8 Evergreen Path, Lingyun County, Guangxi Province, China, 537600 | G11: Logs | H11: Harvesting license Forest tenure certificate Forest management plan Forest harvest permit Sustainable forest management permit Business license FSC certificate PEFC certificate | I11: 1 | J11: Harvest license | K11: 01-01-2024 | L11: 01-01-2023 | M11: 01-01-2025 | O11: 50 | P11: 30000
I12: 2 | J12: Business license | K12: 01-01-2024 | L12: 01-01-2000 | M12: 01-01-2026
I13: 3 | J13: FSC certificate | K13: 01-01-2024 | L13: 01-03-2023 | M13: 01-03-2024
B17: Link | C17: Link | D17: Documentation for trade between tier 1 and tier 2 | H17: Invoice Bill of lading Air waybill/Road Consignment Note Packing list Customs Declaration | I17: 4 | J17: Invoice | K17: 45383 | O17: 25 | P17: 15000
I18: 5 | J18: Bill of lading | K18: 45397 | O18: 25 | P18: 15000
B20: Tier 2 | C20: Sawmill | D20: Golden Timber Works | E20: China | F20: 158 Woodcraft Avenue, Shuangmu Industrial Zone, Chongqing, China, 401120 | G20: Planks | H20: Business license FSC certificate PEFC certificate | I20: 6 | J20: Business license | K20: 01-01-2024 | L20: 01-01-2000 | M20: 01-01-2026
I21: 7 | J21: FCS certificate | K21: 01-01-2024 | L21: 01-03-2023 | M21: 01-03-2024
B23: Link | C23: Link | D23: Documentation for trade between tier 2 and tier 3 | H23: Invoice Bill of lading Air waybill/Road Consignment Note Packing list Customs Declaration | I23: 8 | J23: Invoice | K23: 01-05-2024 | O23: 12 | P23: 700
I24: 9 | J24: Packing list | K24: 15-05-2024 | O24: 12 | P24: 700
I25: 10 | J25: Waybill | K25: 15-05-2024 | O25: 12 | P25: 700
B26: Tier 3 | C26: Manufacture 1 | D26: Harmony Woodworks | E26: China | F26: No. 88, Craftsmanship Road, Golden Timber District, Hangzhou, Zhejiang Province, China, 310012 | G26: Table legs | H26: Business license FSC certificate PEFC certificate | I26: 11 | J26: Business license | K26: 01-01-2024 | L26: 01-01-2000 | M26: 01-01-2026
I27: 12 | J27: FCS certificate | K27: 01-01-2024 | L27: 01-03-2024 | M27: 01-03-2025
B29: Link | C29: Link | D29: Documentation for trade between tier 3 and tier 4 | H29: Invoice Bill of lading Air waybill/Road Consignment Note Packing list Customs Declaration | I29: 13 | J29: Invoice | K29: 01-06-2024 | N29: 300 | P29: 200
I30: 14 | J30: Bill of lading | K30: 01-06-2024 | N30: 300 | P30: 200
B32: Tier 4 | C32: Manufacture 2 | D32: Lotus Wood Creations | E32: China | F32: No. 36, Blossom Lane, Greenleaf Industrial Park, Suzhou, Jiangsu Province, China, 215123 | G32: Final product (table) | H32: Business license FSC certificate PEFC certificate | I32: 15 | J32: Business license | K32: 01-01-2024 | L32: 01-01-2000 | M32: 01-01-2026
I33: 16 | J33: FCS certificate | K33: 01-01-2024 | L33: 01-03-2024 | M33: 01-03-2025
B35: Link | C35: Link | D35: Documentation for trade between tier 4 and tier 5 | H35: Invoice Bill of lading Air waybill/Road Consignment Note Packing list Customs Declaration | I35: 17 | J35: Invoice | K35: 01-07-2024 | N35: 200 | P35: 400
I36: 18 | J36: Packing list | K36: 01-07-2024 | N36: 200 | P36: 400
I37: 19 | J37: Bill of lading | K37: 01-07-2024 | N37: 200 | P37: 400
B38: Tier 5 | C38: Trader | D38: Danish Table Design | E38: Denmark | F38: Designvej 13, 8899 Designby, Denmark | G38: Final product (table) | H38: Business license FSC certificate PEFC certificate | I38: 20 | J38: FSC certificate | K38: 01-01-2024 | L38: 01-03-2024 | M38: 01-03-2025
B41: Link | C41: Link | D41: Documentation for trade between tier 5 and Salling Group | H41: Invoice Bill of lading Air waybill/Road Consignment Note Packing list Customs Declaration | I41: 21 | J41: Proforma invoice | K41: 01-08-2024 | N41: 200 | P41: 400
B44: Tier 5 | C44: Retailer | D44: Salling Group A/S | E44: Denmark | F44: Rosbjergvej 33, 8220 Brabrand | G44: Final product | I44: N/A | J44: N/A | K44: N/A | N44: N/A | P44: N/A | Q44: N/A | R44: N/A
B45: If additional tiers are needed to specify the entire supply chain, simply add them by copying row 36 to row 41 and inserting them between row 41 and row 42.
B46: If there are too many tiers for the specific supply chain, simply delete the unnecessary rows

Sheet Risk Assessment
A1: RS TEAM | Risk Assessment
A3: Please select if this evaluation is for a high or standard risk country or low risk country | M3: Final risk score
A5: Is the 'Supply Chain Overview' tab completed correctly, and has all required documentation been submitted and verified? | M5: =AVERAGE(B14,E14,H14) -> #N/A
A7: Is the 'Basic Information' tab completed correctly?
A9: Abstract risk assessment from Osapiens
B12: Supply chain risk | E12: Abstract risk | H12: Questionnaire Risk | M12: =IF(M5<=3,A25,A24) -> #N/A
B14: {=(_xlfn.IFS(H5="Yes",0,H5="No",5,H5="Some documentation is missing",3))+(_xlfn.IFS(H7="Yes",0,H7="No",5,H7="Some documentation is missing",3))} -> #N/A | E14: =H9 -> 0 | H14: {=_xlfn.IFS(H3="High or Standard",'QS (Standard or High risk)'!F41,H3="Low",'QS (Low risk)'!F14)} -> #N/A
A24: The risk score for this product is 3 or higher and is therefore too high. The product cannot be imported and the DDS cannot be submitted unless the risk can be mitigated.
A25: The risk score for this product is below 3, and both the product and the risk are assessed as minimal. The product may be imported, and the DDS must be submitted via Osapiens.

Sheet Country list
A1: Afghanistan
A2: Albania
A3: Algeria
A4: Andorra
A5: Angola
A6: Antigua and Barbuda
A7: Argentina
A8: Armenia
A9: Aruba
A10: Australia
A11: Austria
A12: Azerbaijan
... A226: Zimbabwe
